BEGIN:VCALENDAR
VERSION:2.0
PRODID:-//Coastal Blue Gift Shoppe | Southport, NC - ECPv6.15.18//NONSGML v1.0//EN
CALSCALE:GREGORIAN
METHOD:PUBLISH
X-WR-CALNAME:Coastal Blue Gift Shoppe | Southport, NC
X-ORIGINAL-URL:https://coastalbluegiftshoppe.com
X-WR-CALDESC:Events for Coastal Blue Gift Shoppe | Southport, NC
REFRESH-INTERVAL;VALUE=DURATION:PT1H
X-Robots-Tag:noindex
X-PUBLISHED-TTL:PT1H
BEGIN:VTIMEZONE
TZID:America/New_York
BEGIN:DAYLIGHT
TZOFFSETFROM:-0500
TZOFFSETTO:-0400
TZNAME:EDT
DTSTART:20250309T070000
END:DAYLIGHT
BEGIN:STANDARD
TZOFFSETFROM:-0400
TZOFFSETTO:-0500
TZNAME:EST
DTSTART:20251102T060000
END:STANDARD
BEGIN:DAYLIGHT
TZOFFSETFROM:-0500
TZOFFSETTO:-0400
TZNAME:EDT
DTSTART:20260308T070000
END:DAYLIGHT
BEGIN:STANDARD
TZOFFSETFROM:-0400
TZOFFSETTO:-0500
TZNAME:EST
DTSTART:20261101T060000
END:STANDARD
BEGIN:DAYLIGHT
TZOFFSETFROM:-0500
TZOFFSETTO:-0400
TZNAME:EDT
DTSTART:20270314T070000
END:DAYLIGHT
BEGIN:STANDARD
TZOFFSETFROM:-0400
TZOFFSETTO:-0500
TZNAME:EST
DTSTART:20271107T060000
END:STANDARD
END:VTIMEZONE
BEGIN:VEVENT
DTSTART;TZID=America/New_York:20260314T110000
DTEND;TZID=America/New_York:20260314T130000
DTSTAMP:20260422T045735
CREATED:20260302T112811Z
LAST-MODIFIED:20260313T191028Z
UID:72-1773486000-1773493200@coastalbluegiftshoppe.com
SUMMARY:Small Wood Bowl Candle Making Class
DESCRIPTION:Join us in upper downtown Southport for a fun and creative experience at Coastal Blue Gift Shoppe! Tonia\, everyone’s favorite candlemaker\, will guide you through this relaxing two-hour candle-making class\, where you’ll create your very own wood wick candle. \nEach guest will receive a small 4/5 inch round wooden bowl made in Kenya and your choice from a variety of clean\, beautiful fragrances. You’ll pour and assemble your candle step-by-step\, with easy-to-follow instruction — no experience needed! \nCome enjoy creativity\, fellowship\, and a little coastal charm while crafting something uniquely yours. \n  \nREGISTER FOR THIS EVENT \n 
URL:https://coastalbluegiftshoppe.com/event/small-wood-bowl-candle-making-class/
LOCATION:Coastal Blue Gift Shoppe\, 717 North Howe Street\, Southport\, Southport\, NC\, 28461\, United States
CATEGORIES:Coastal Events
ATTACH;FMTTYPE=image/webp:https://coastalbluegiftshoppe.com/wp-content/uploads/2026/03/event-1.webp
END:VEVENT
END:VCALENDAR